BEGIN:VCALENDAR
VERSION:2.0
PRODID:-//Lakeview Correspondent - ECPv6.15.20//NONSGML v1.0//EN
CALSCALE:GREGORIAN
METHOD:PUBLISH
X-WR-CALNAME:Lakeview Correspondent
X-ORIGINAL-URL:https://www.lakeviewcorrespondent.com
X-WR-CALDESC:Events for Lakeview Correspondent
REFRESH-INTERVAL;VALUE=DURATION:PT1H
X-Robots-Tag:noindex
X-PUBLISHED-TTL:PT1H
BEGIN:VTIMEZONE
TZID:America/New_York
BEGIN:DAYLIGHT
TZOFFSETFROM:-0500
TZOFFSETTO:-0400
TZNAME:EDT
DTSTART:20230312T070000
END:DAYLIGHT
BEGIN:STANDARD
TZOFFSETFROM:-0400
TZOFFSETTO:-0500
TZNAME:EST
DTSTART:20231105T060000
END:STANDARD
BEGIN:DAYLIGHT
TZOFFSETFROM:-0500
TZOFFSETTO:-0400
TZNAME:EDT
DTSTART:20240310T070000
END:DAYLIGHT
BEGIN:STANDARD
TZOFFSETFROM:-0400
TZOFFSETTO:-0500
TZNAME:EST
DTSTART:20241103T060000
END:STANDARD
BEGIN:DAYLIGHT
TZOFFSETFROM:-0500
TZOFFSETTO:-0400
TZNAME:EDT
DTSTART:20250309T070000
END:DAYLIGHT
BEGIN:STANDARD
TZOFFSETFROM:-0400
TZOFFSETTO:-0500
TZNAME:EST
DTSTART:20251102T060000
END:STANDARD
END:VTIMEZONE
BEGIN:VEVENT
DTSTART;TZID=America/New_York:20240715T130000
DTEND;TZID=America/New_York:20240715T140000
DTSTAMP:20260424T075950
CREATED:20240701T154713Z
LAST-MODIFIED:20240701T154713Z
UID:15952-1721048400-1721052000@www.lakeviewcorrespondent.com
SUMMARY:Lakeview Delegated LoanDock Portal - Pre-Close Training for TSAHC Lenders
DESCRIPTION:Please join us to learn more about our Lakeview Delegated LoanDock Portal for TSAHC Lenders! \nClick the link below to register. If you have any questions\, please call or email Client Services: \n85 LAKEVIEW\, option 3 \nClientServices@Bayview.com \n*We are using Zoom for this training. Please click the link below to register.  \nhttps://us02web.zoom.us/j/83497632483?pwd=fjNKnVsTYzD28F5YY3vA1rscSLpJZd.1 \nYou will be directed to a Webinar Registration page where you will need to enter your name\, work email address\, organization\, and job title; then click the Register button. \nAfter registering\, you will receive a confirmation email containing information about joining the webinar.
URL:https://www.lakeviewcorrespondent.com/event/lakeview-delegated-loandock-portal-pre-close-training-for-tsahc-lenders/
END:VEVENT
END:VCALENDAR