BEGIN:VCALENDAR
VERSION:2.0
PRODID:-//Lakeview Correspondent - ECPv6.15.20//NONSGML v1.0//EN
CALSCALE:GREGORIAN
METHOD:PUBLISH
X-WR-CALNAME:Lakeview Correspondent
X-ORIGINAL-URL:https://www.lakeviewcorrespondent.com
X-WR-CALDESC:Events for Lakeview Correspondent
REFRESH-INTERVAL;VALUE=DURATION:PT1H
X-Robots-Tag:noindex
X-PUBLISHED-TTL:PT1H
BEGIN:VTIMEZONE
TZID:America/New_York
BEGIN:DAYLIGHT
TZOFFSETFROM:-0500
TZOFFSETTO:-0400
TZNAME:EDT
DTSTART:20250309T070000
END:DAYLIGHT
BEGIN:STANDARD
TZOFFSETFROM:-0400
TZOFFSETTO:-0500
TZNAME:EST
DTSTART:20251102T060000
END:STANDARD
BEGIN:DAYLIGHT
TZOFFSETFROM:-0500
TZOFFSETTO:-0400
TZNAME:EDT
DTSTART:20260308T070000
END:DAYLIGHT
BEGIN:STANDARD
TZOFFSETFROM:-0400
TZOFFSETTO:-0500
TZNAME:EST
DTSTART:20261101T060000
END:STANDARD
BEGIN:DAYLIGHT
TZOFFSETFROM:-0500
TZOFFSETTO:-0400
TZNAME:EDT
DTSTART:20270314T070000
END:DAYLIGHT
BEGIN:STANDARD
TZOFFSETFROM:-0400
TZOFFSETTO:-0500
TZNAME:EST
DTSTART:20271107T060000
END:STANDARD
END:VTIMEZONE
BEGIN:VEVENT
DTSTART;TZID=America/New_York:20260507T140000
DTEND;TZID=America/New_York:20260507T150000
DTSTAMP:20260424T080952
CREATED:20260423T185827Z
LAST-MODIFIED:20260423T185827Z
UID:21528-1778162400-1778166000@www.lakeviewcorrespondent.com
SUMMARY:Bank Statement Product Overview - Silver Hill Capital
DESCRIPTION:Please join us to learn more about our Bank Statement product offerings! \nClick the link below to register. If you have any questions\, please call or email Client Services: \n85 LAKEVIEW\, option 3 \nClientServices@SilverHillCap.com \n*We are using Zoom for this training. Please click the link below to register.  \nhttps://bayview.zoom.us/webinar/register/WN_pwSuDbOTReinUPGWQtzynQ \nYou will be directed to a Webinar Registration page where you will need to enter your name\, work email address\, organization\, and job title; then click the Register button. \nAfter registering\, you will receive a confirmation email containing information about joining the webinar.
URL:https://www.lakeviewcorrespondent.com/event/bank-statement-product-overview-silver-hill-capital-3/
END:VEVENT
BEGIN:VEVENT
DTSTART;TZID=America/New_York:20260512T140000
DTEND;TZID=America/New_York:20260512T150000
DTSTAMP:20260424T080952
CREATED:20260423T143753Z
LAST-MODIFIED:20260423T143753Z
UID:21520-1778594400-1778598000@www.lakeviewcorrespondent.com
SUMMARY:Underwriting the DSCR Product - Silver Hill Capital
DESCRIPTION:Please join us to learn more about underwriting the DSCR product! \nClick the link below to register. If you have any questions\, please call or email Client Services: \n85 LAKEVIEW\, option 3 \nClientServices@SilverHillCap.com \n*We are using Zoom for this training. Please click the link below to register.  \nhttps://bayview.zoom.us/webinar/register/WN_8O9yuEdNSLaplLDJmsZYDw \nYou will be directed to a Webinar Registration page where you will need to enter your name\, work email address\, organization\, and job title; then click the Register button. \nAfter registering\, you will receive a confirmation email containing information about joining the webinar.
URL:https://www.lakeviewcorrespondent.com/event/underwriting-the-dscr-product-silver-hill-capital-3/
END:VEVENT
BEGIN:VEVENT
DTSTART;TZID=America/New_York:20260514T140000
DTEND;TZID=America/New_York:20260514T150000
DTSTAMP:20260424T080952
CREATED:20260423T150522Z
LAST-MODIFIED:20260423T150522Z
UID:21521-1778767200-1778770800@www.lakeviewcorrespondent.com
SUMMARY:Jumbo AUS and Jumbo Plus Products Overview - Silver Hill Capital
DESCRIPTION:Please join us to learn more about our Jumbo product offerings! \nClick the link below to register. If you have any questions\, please call or email Client Services: \n85 LAKEVIEW\, option 3 \nClientServices@SilverHillCap.com \n*We are using Zoom for this training. Please click the link below to register.  \nhttps://bayview.zoom.us/webinar/register/WN_2DbP8G2XRImgrekOhJ_33g \nYou will be directed to a Webinar Registration page where you will need to enter your name\, work email address\, organization\, and job title; then click the Register button. \nAfter registering\, you will receive a confirmation email containing information about joining the webinar.
URL:https://www.lakeviewcorrespondent.com/event/jumbo-aus-and-jumbo-plus-products-overview-silver-hill-capital/
END:VEVENT
BEGIN:VEVENT
DTSTART;TZID=America/New_York:20260520T140000
DTEND;TZID=America/New_York:20260520T150000
DTSTAMP:20260424T080952
CREATED:20260423T190640Z
LAST-MODIFIED:20260423T190640Z
UID:21529-1779285600-1779289200@www.lakeviewcorrespondent.com
SUMMARY:DSCR Cross-Collateralized Overview - Silver Hill Capital
DESCRIPTION:Please join us to learn more about our Cross-Collateralized feature of the DSCR product! \nClick the link below to register. If you have any questions\, please call or email Client Services: \n85 LAKEVIEW\, option 3 \nClientServices@SilverHillCap.com \n*We are using Zoom for this training. Please click the link below to register.  \nhttps://bayview.zoom.us/webinar/register/WN_fqE-5z33T6SR3GO59pAZvw \nYou will be directed to a Webinar Registration page where you will need to enter your name\, work email address\, organization\, and job title; then click the Register button. \nAfter registering\, you will receive a confirmation email containing information about joining the webinar.
URL:https://www.lakeviewcorrespondent.com/event/dscr-cross-collateralized-overview-silver-hill-capital-2/
END:VEVENT
BEGIN:VEVENT
DTSTART;TZID=America/New_York:20260521T140000
DTEND;TZID=America/New_York:20260521T150000
DTSTAMP:20260424T080952
CREATED:20260423T151019Z
LAST-MODIFIED:20260423T185006Z
UID:21523-1779372000-1779375600@www.lakeviewcorrespondent.com
SUMMARY:Agency Investor Plus - Silver Hill Capital
DESCRIPTION:Please join us to learn more about our AIP product offerings! \nClick the link below to register. If you have any questions\, please call or email Client Services: \n85 LAKEVIEW\, option 3 \nClientServices@SilverHillCap.com \n*We are using Zoom for this training. Please click the link below to register.  \nhttps://bayview.zoom.us/webinar/register/WN_g2Slu5L6RGSZRmFWVe5xRg \n  \nYou will be directed to a Webinar Registration page where you will need to enter your name\, work email address\, organization\, and job title; then click the Register button. \nAfter registering\, you will receive a confirmation email containing information about joining the webinar.
URL:https://www.lakeviewcorrespondent.com/event/agency-investor-plus-silver-hill-capital/
END:VEVENT
END:VCALENDAR